BEGIN:VCALENDAR
VERSION:2.0
PRODID:-//美咲青年教室 - ECPv6.10.1.1//NONSGML v1.0//EN
CALSCALE:GREGORIAN
METHOD:PUBLISH
X-ORIGINAL-URL:https://misaki-sk.okinawa
X-WR-CALDESC:美咲青年教室 のイベント
REFRESH-INTERVAL;VALUE=DURATION:PT1H
X-Robots-Tag:noindex
X-PUBLISHED-TTL:PT1H
BEGIN:VTIMEZONE
TZID:Asia/Tokyo
BEGIN:STANDARD
TZOFFSETFROM:+0900
TZOFFSETTO:+0900
TZNAME:JST
DTSTART:20220101T000000
END:STANDARD
END:VTIMEZONE
BEGIN:VEVENT
DTSTART;TZID=Asia/Tokyo:20250519T080000
DTEND;TZID=Asia/Tokyo:20260222T170000
DTSTAMP:20260421T190236
CREATED:20250519T051405Z
LAST-MODIFIED:20250519T051405Z
UID:4057-1747641600-1771779600@misaki-sk.okinawa
SUMMARY:令和7年度　活動イベント
DESCRIPTION:
URL:https://misaki-sk.okinawa/event/%e4%bb%a4%e5%92%8c7%e5%b9%b4%e5%ba%a6%e3%80%80%e6%b4%bb%e5%8b%95%e3%82%a4%e3%83%99%e3%83%b3%e3%83%88/
ATTACH;FMTTYPE=image/jpeg:https://misaki-sk.okinawa/cms/wp-content/uploads/2025/05/令和7年度活動イベント.jpg
END:VEVENT
BEGIN:VEVENT
DTSTART;VALUE=DATE:20241215
DTEND;VALUE=DATE:20241216
DTSTAMP:20260421T190236
CREATED:20240601T041214Z
LAST-MODIFIED:20240601T042932Z
UID:3534-1734220800-1734307199@misaki-sk.okinawa
SUMMARY:クリスマスパーティー
DESCRIPTION:
URL:https://misaki-sk.okinawa/event/%e3%82%af%e3%83%aa%e3%82%b9%e3%83%9e%e3%82%b9%e3%83%91%e3%83%bc%e3%83%86%e3%82%a3%e3%83%bc/
LOCATION:学校体育館
ATTACH;FMTTYPE=image/jpeg:https://misaki-sk.okinawa/cms/wp-content/uploads/2022/12/ai-catch-christmas_01.jpg
END:VEVENT
BEGIN:VEVENT
DTSTART;VALUE=DATE:20241117
DTEND;VALUE=DATE:20241118
DTSTAMP:20260421T190236
CREATED:20240601T041157Z
LAST-MODIFIED:20240618T052911Z
UID:3532-1731801600-1731887999@misaki-sk.okinawa
SUMMARY:ボウリング教室きょうしつ
DESCRIPTION:
URL:https://misaki-sk.okinawa/event/%e3%83%9c%e3%82%a6%e3%83%aa%e3%83%b3%e3%82%b0%e6%95%99%e5%ae%a4/
LOCATION:ドラゴンボール\, 登川２４５０\, 沖縄市\, 沖縄県\, 904-2142\, 日本
ATTACH;FMTTYPE=image/jpeg:https://misaki-sk.okinawa/cms/wp-content/uploads/2023/12/20231119-bowling_09.jpg
END:VEVENT
BEGIN:VEVENT
DTSTART;VALUE=DATE:20241020
DTEND;VALUE=DATE:20241021
DTSTAMP:20260421T190236
CREATED:20240601T041138Z
LAST-MODIFIED:20240618T052657Z
UID:3530-1729382400-1729468799@misaki-sk.okinawa
SUMMARY:遠足えんそく
DESCRIPTION:
URL:https://misaki-sk.okinawa/event/%e9%81%a0%e8%b6%b3/
LOCATION:沖縄こどもの国\, 胡屋５丁目７−１\, 沖縄市\, 沖縄県\, 904-0021\, 日本
ATTACH;FMTTYPE=image/jpeg:https://misaki-sk.okinawa/cms/wp-content/uploads/2023/11/okzm_231015_02.jpg
END:VEVENT
BEGIN:VEVENT
DTSTART;VALUE=DATE:20240915
DTEND;VALUE=DATE:20240916
DTSTAMP:20260421T190236
CREATED:20240601T041118Z
LAST-MODIFIED:20240911T070340Z
UID:3528-1726358400-1726444799@misaki-sk.okinawa
SUMMARY:スタンプラリー（台風接近に伴い中止となりました）
DESCRIPTION:こちらのイベントは台風たいふう接近せっきんが予想よそうされることから、中止ちゅうしとなりました。\n申もうし訳わけございませんが、ご理解りかいのほどよろしくお願ねがいいたします。
URL:https://misaki-sk.okinawa/event/%e3%82%b9%e3%82%bf%e3%83%b3%e3%83%97%e3%83%a9%e3%83%aa%e3%83%bc/
LOCATION:学校体育館
ATTACH;FMTTYPE=image/jpeg:https://misaki-sk.okinawa/cms/wp-content/uploads/2022/07/ensoku.jpg
END:VEVENT
BEGIN:VEVENT
DTSTART;VALUE=DATE:20240818
DTEND;VALUE=DATE:20240819
DTSTAMP:20260421T190236
CREATED:20240601T041059Z
LAST-MODIFIED:20240618T052302Z
UID:3526-1723939200-1724025599@misaki-sk.okinawa
SUMMARY:カラオケ教室きょうしつ
DESCRIPTION:
URL:https://misaki-sk.okinawa/event/%e3%82%ab%e3%83%a9%e3%82%aa%e3%82%b1%e6%95%99%e5%ae%a4-2/
LOCATION:カラオケスポットジョイ美里店\, 美原３丁目１８−１\, 沖縄市\, 沖縄県\, 904-2155\, 日本
ATTACH;FMTTYPE=image/jpeg:https://misaki-sk.okinawa/cms/wp-content/uploads/2023/09/2023_karaoke_1.jpg
END:VEVENT
BEGIN:VEVENT
DTSTART;VALUE=DATE:20240721
DTEND;VALUE=DATE:20240722
DTSTAMP:20260421T190236
CREATED:20240601T041030Z
LAST-MODIFIED:20240618T052007Z
UID:3524-1721520000-1721606399@misaki-sk.okinawa
SUMMARY:ミニ運動会うんどうかい
DESCRIPTION:
URL:https://misaki-sk.okinawa/event/%e3%83%9f%e3%83%8b%e9%81%8b%e5%8b%95%e4%bc%9a-2/
LOCATION:学校体育館
ATTACH;FMTTYPE=image/jpeg:https://misaki-sk.okinawa/cms/wp-content/uploads/2023/08/2023_r5-miniathleticmeet_003.jpg
END:VEVENT
BEGIN:VEVENT
DTSTART;TZID=Asia/Tokyo:20240707T093000
DTEND;TZID=Asia/Tokyo:20240707T093000
DTSTAMP:20260421T190236
CREATED:20240611T015556Z
LAST-MODIFIED:20240611T015556Z
UID:3571-1720344600-1720344600@misaki-sk.okinawa
SUMMARY:第だい４回かいチャレンジング・パーソン空手からて
DESCRIPTION:「第だい4回かいチャレンジングパーソン空手からて」大会たいかいが、令和れいわ6年ねん7月がつ7日にち（日曜日にちようび）に沖縄おきなわの空手からて会館かいかんで開催かいさいされます。この大会たいかいは、知的ちてき障しょうがいを持もつ空手家からてかたちが日々ひびの稽古けいこの成果せいかを披露ひろうする場ばであり、小しょう学生がくせいから成人せいじんまでが参加さんかします。 \n参加者さんかしゃは、個人こじんで型かたを披露ひろうする者ものや、ベテランのパートナーとともに演武えんぶする者ものなど、レベルに応おうじてグループ分わけされており、技術ぎじゅつの向上こうじょうと空手からての精神せいしんと美うつくしさを披露ひろうします。 \nさらに、『空手からて体験たいけんプログラム』も用意よういされており、空手からてを習ならっていない方かたでも事前じぜん申込もうしこみをすれば全員ぜんいん参加さんかできます。参加者さんかしゃには、参加賞さんかしょうとしてメダルが贈おくられます。参加者さんかしゃとご家族かぞくにはお弁当べんとうを準備じゅんびいたします。（※事前じぜん申もうし込者こみしゃのみ） \n伝統でんとうの沖縄おきなわ空手からてを体験たいけんして、その魅力みりょくを感かんじてみてはいかがでしょうか。 \n申もうし込先こみさき：チャレンジング・パーソン空手からて　事務局じむきょく\n〒904-2231　うるま市し塩屋しおや176　具志堅ぐしけん方かた2F\nFAX　098-974-7540\n携帯けいたい電話でんわ　090-3790-8180 \nくわしくはこちら
URL:https://misaki-sk.okinawa/event/%e7%ac%ac%e3%81%a0%e3%81%84%ef%bc%94%e5%9b%9e%e3%81%8b%e3%81%84%e3%83%81%e3%83%a3%e3%83%ac%e3%83%b3%e3%82%b8%e3%83%b3%e3%82%b0%e3%83%bb%e3%83%91%e3%83%bc%e3%82%bd%e3%83%b3%e7%a9%ba%e6%89%8b%e3%81%8b/
LOCATION:沖縄空手会館(アリーナ)\, 沖縄県豊見城市豊見城８５４−１
ATTACH;FMTTYPE=image/jpeg:https://misaki-sk.okinawa/cms/wp-content/uploads/2024/06/PXL_20230709_022708020-scaled.jpg
END:VEVENT
BEGIN:VEVENT
DTSTART;VALUE=DATE:20240616
DTEND;VALUE=DATE:20240617
DTSTAMP:20260421T190236
CREATED:20240601T041011Z
LAST-MODIFIED:20240601T042027Z
UID:3521-1718496000-1718582399@misaki-sk.okinawa
SUMMARY:ソフトバレー
DESCRIPTION:
URL:https://misaki-sk.okinawa/event/%e3%82%bd%e3%83%95%e3%83%88%e3%83%90%e3%83%ac%e3%83%bc/
LOCATION:学校体育館
ATTACH;FMTTYPE=image/jpeg:https://misaki-sk.okinawa/cms/wp-content/uploads/2023/06/2023_r5-kick_baseball_01.jpg
END:VEVENT
BEGIN:VEVENT
DTSTART;VALUE=DATE:20240519
DTEND;VALUE=DATE:20240520
DTSTAMP:20260421T190236
CREATED:20240227T044159Z
LAST-MODIFIED:20240227T044837Z
UID:3472-1716076800-1716163199@misaki-sk.okinawa
SUMMARY:開級式
DESCRIPTION:令和れいわ6年度ねんどの開級式かいきゅうしきを5月がつ19日にち日曜日にちようびに美咲みさき特別とくべつ支援しえん学校がっこうの体育館たいいくかんで行おこないます。\n開級式かいきゅうしきでは総会そうかいとキックベースボールを開催かいさいする予定よていです。 \nみなさんぜひご参加さんかください。
URL:https://misaki-sk.okinawa/event/2024-kaikyushiki/
LOCATION:沖縄県立美咲特別支援学校\, 美里４丁目１８−１\, 沖縄市\, 沖縄県\, 904-2153\, 日本
END:VEVENT
BEGIN:VEVENT
DTSTART;VALUE=DATE:20240225
DTEND;VALUE=DATE:20240226
DTSTAMP:20260421T190236
CREATED:20220722T052214Z
LAST-MODIFIED:20230905T021549Z
UID:2527-1708819200-1708905599@misaki-sk.okinawa
SUMMARY:閉級式
DESCRIPTION:2024年ねんの閉級式へいきゅうしきを美咲みさき特別とくべつ支援しえん学校がっこうの体育館たいいくかんで行おこないます。みなさんぜひご参加さんかください。 \n当初とうしょは2月がつ18日にちの開催かいさいを予定よていしていましたが、同日どうじつに開催かいさいされる『おきなわマラソン』の交通規制こうつうきせいを考慮こうりょし2月がつ25日にちに変更へんこういたしました。 \n※コロナウイルス感染かんせん症しょう拡大かくだい防止ぼうしのため延期えんきや中止ちゅうしの可能性かのうせいがあります。
URL:https://misaki-sk.okinawa/event/2024-heikyushiki/
LOCATION:沖縄県立美咲特別支援学校\, 美里４丁目１８−１\, 沖縄市\, 沖縄県\, 904-2153\, 日本
ATTACH;FMTTYPE=image/jpeg:https://misaki-sk.okinawa/cms/wp-content/uploads/2022/07/mic.jpg
END:VEVENT
BEGIN:VEVENT
DTSTART;VALUE=DATE:20240223
DTEND;VALUE=DATE:20240224
DTSTAMP:20260421T190236
CREATED:20240620T040144Z
LAST-MODIFIED:20240620T040206Z
UID:3627-1708646400-1708732799@misaki-sk.okinawa
SUMMARY:閉級式へいきゅうしき
DESCRIPTION:
URL:https://misaki-sk.okinawa/event/%e9%96%89%e7%b4%9a%e5%bc%8f%e3%81%b8%e3%81%84%e3%81%8d%e3%82%85%e3%81%86%e3%81%97%e3%81%8d/
LOCATION:学校体育館
ATTACH;FMTTYPE=image/jpeg:https://misaki-sk.okinawa/cms/wp-content/uploads/2024/06/LINE_ALBUM_閉級式_240226_14.jpg
END:VEVENT
BEGIN:VEVENT
DTSTART;VALUE=DATE:20240223
DTEND;VALUE=DATE:20240224
DTSTAMP:20260421T190236
CREATED:20240601T041244Z
LAST-MODIFIED:20240620T020221Z
UID:3538-1708646400-1708732799@misaki-sk.okinawa
SUMMARY:閉級式へいきゅうしき
DESCRIPTION:
URL:https://misaki-sk.okinawa/event/%e9%96%89%e7%b4%9a%e5%bc%8f/
LOCATION:学校体育館
ATTACH;FMTTYPE=image/jpeg:https://misaki-sk.okinawa/cms/wp-content/uploads/2024/06/LINE_ALBUM_閉級式_240226_14.jpg
END:VEVENT
BEGIN:VEVENT
DTSTART;VALUE=DATE:20240121
DTEND;VALUE=DATE:20240122
DTSTAMP:20260421T190236
CREATED:20220722T052044Z
LAST-MODIFIED:20230525T032152Z
UID:2523-1705795200-1705881599@misaki-sk.okinawa
SUMMARY:成人式
DESCRIPTION:2024年ねんの成人式せいじんしきを美咲みさき特別とくべつ支援しえん学校がっこうの体育館たいいくかんで行おこないます。\nみなさんぜひご参加さんかください。 \n※コロナウイルス感染症かんせんしょう拡大かくだい防止ぼうしのため延期えんきや中止ちゅうしの可能性かのうせいがあります。
URL:https://misaki-sk.okinawa/event/2024-seijinshiki/
LOCATION:沖縄県立美咲特別支援学校\, 美里４丁目１８−１\, 沖縄市\, 沖縄県\, 904-2153\, 日本
ATTACH;FMTTYPE=image/jpeg:https://misaki-sk.okinawa/cms/wp-content/uploads/2022/09/seijin.jpg
END:VEVENT
BEGIN:VEVENT
DTSTART;VALUE=DATE:20240121
DTEND;VALUE=DATE:20240122
DTSTAMP:20260421T190236
CREATED:20240601T041229Z
LAST-MODIFIED:20240620T032137Z
UID:3536-1705795200-1705881599@misaki-sk.okinawa
SUMMARY:成人式せいじんしき
DESCRIPTION:
URL:https://misaki-sk.okinawa/event/%e6%88%90%e4%ba%ba%e5%bc%8f/
LOCATION:学校体育館
ATTACH;FMTTYPE=image/jpeg:https://misaki-sk.okinawa/cms/wp-content/uploads/2022/07/seijinshiki.jpg
END:VEVENT
BEGIN:VEVENT
DTSTART;VALUE=DATE:20231217
DTEND;VALUE=DATE:20231218
DTSTAMP:20260421T190236
CREATED:20220722T023723Z
LAST-MODIFIED:20230525T051839Z
UID:2491-1702771200-1702857599@misaki-sk.okinawa
SUMMARY:クリスマスパーティー(成人式 44期生 )
DESCRIPTION:クリスマスパーティーを美咲みさき特別とくべつ支援しえん学校がっこうの体育館たいいくかんで行います。\nみなさんぜひご参加さんかください。 \n※コロナウイルス感染症かんせんしょう拡大かくだい防止ぼうしのため延期えんきや中止ちゅうしの可能性かのうせいがあります。
URL:https://misaki-sk.okinawa/event/2023-christmas/
LOCATION:沖縄県立美咲特別支援学校\, 美里４丁目１８−１\, 沖縄市\, 沖縄県\, 904-2153\, 日本
ATTACH;FMTTYPE=image/jpeg:https://misaki-sk.okinawa/cms/wp-content/uploads/2022/07/freestocks-k-Rp0V0XWWU-unsplash-scaled.jpg
END:VEVENT
BEGIN:VEVENT
DTSTART;VALUE=DATE:20231119
DTEND;VALUE=DATE:20231120
DTSTAMP:20260421T190236
CREATED:20220722T051130Z
LAST-MODIFIED:20230525T051927Z
UID:2515-1700352000-1700438399@misaki-sk.okinawa
SUMMARY:ボウリング教室(成人式 44期生 )
DESCRIPTION:沖縄市おきなわし登川のぼりかわのドラゴンボールにて、ボウリング教室きょうしつを開催かいさいします！ \n集合しゅうごう時間じかんは9:30、場内じょうないでの密みつ状態じょうたいを避さけるため、集あつまり次第しだいプレーを開始かいしいたします。\n（保護者ほごしゃがゲームする際さいは有料ゆうりょうとなっております。） \n※コロナウイルス感染症かんせんしょう拡大かくだい防止ぼうしのため延期えんきや中止ちゅうしの可能性かのうせいがあります。
URL:https://misaki-sk.okinawa/event/2023-bowling/
LOCATION:ドラゴンボール\, 登川２４５０\, 沖縄市\, 沖縄県\, 904-2142\, 日本
ATTACH;FMTTYPE=image/jpeg:https://misaki-sk.okinawa/cms/wp-content/uploads/2022/09/bowling-scaled.jpg
END:VEVENT
BEGIN:VEVENT
DTSTART;VALUE=DATE:20231015
DTEND;VALUE=DATE:20231016
DTSTAMP:20260421T190236
CREATED:20220722T050417Z
LAST-MODIFIED:20230525T024419Z
UID:2512-1697328000-1697414399@misaki-sk.okinawa
SUMMARY:遠足
DESCRIPTION:沖縄こどもの国への遠足を10月15日に予定しいます。 \nみなさん是非ぜひ参加さんかしてください！
URL:https://misaki-sk.okinawa/event/2022-ensoku/
LOCATION:沖縄こどもの国\, 胡屋５丁目７−１\, 沖縄市\, 沖縄県\, 904-0021\, 日本
ATTACH;FMTTYPE=image/jpeg:https://misaki-sk.okinawa/cms/wp-content/uploads/2022/09/picnic-scaled.jpg
END:VEVENT
BEGIN:VEVENT
DTSTART;VALUE=DATE:20230917
DTEND;VALUE=DATE:20230918
DTSTAMP:20260421T190236
CREATED:20220722T050036Z
LAST-MODIFIED:20230525T023754Z
UID:2508-1694908800-1694995199@misaki-sk.okinawa
SUMMARY:バーベキュー&スタンプラリー
DESCRIPTION:バーベキュー&スタンプラリーを学校の体育館がわの広場にておこないます。 \nみなさん是非ぜひ参加さんかしてください！
URL:https://misaki-sk.okinawa/event/2022-bbq-and-stamp-rally/
LOCATION:沖縄県立美咲特別支援学校\, 美里４丁目１８−１\, 沖縄市\, 沖縄県\, 904-2153\, 日本
ATTACH;FMTTYPE=image/jpeg:https://misaki-sk.okinawa/cms/wp-content/uploads/2022/07/barbecue.jpg
END:VEVENT
BEGIN:VEVENT
DTSTART;VALUE=DATE:20230820
DTEND;VALUE=DATE:20230821
DTSTAMP:20260421T190236
CREATED:20230525T023309Z
LAST-MODIFIED:20230525T053528Z
UID:3205-1692489600-1692575999@misaki-sk.okinawa
SUMMARY:カラオケ教室
DESCRIPTION:カラオケ教室を美里公園近くの カラオケスポットジョイ にて行います。\nみなさん是非参加してください！
URL:https://misaki-sk.okinawa/event/%e3%82%ab%e3%83%a9%e3%82%aa%e3%82%b1%e6%95%99%e5%ae%a4/
LOCATION:カラオケスポットジョイ美里店\, 美原３丁目１８−１\, 沖縄市\, 沖縄県\, 904-2155\, 日本
ATTACH;FMTTYPE=image/jpeg:https://misaki-sk.okinawa/cms/wp-content/uploads/2023/05/Karaoke.jpg
END:VEVENT
BEGIN:VEVENT
DTSTART;VALUE=DATE:20230716
DTEND;VALUE=DATE:20230717
DTSTAMP:20260421T190236
CREATED:20230523T052935Z
LAST-MODIFIED:20230526T025524Z
UID:3203-1689465600-1689551999@misaki-sk.okinawa
SUMMARY:ミニ運動会
DESCRIPTION:ミニ運動会を学校の運動場にて行います。 \nみなさん是非参加してください！
URL:https://misaki-sk.okinawa/event/%e3%83%9f%e3%83%8b%e9%81%8b%e5%8b%95%e4%bc%9a/
LOCATION:沖縄県立美咲特別支援学校\, 美里４丁目１８−１\, 沖縄市\, 沖縄県\, 904-2153\, 日本
ATTACH;FMTTYPE=image/jpeg:https://misaki-sk.okinawa/cms/wp-content/uploads/2022/09/ground-golf_1.jpg
END:VEVENT
BEGIN:VEVENT
DTSTART;VALUE=DATE:20230618
DTEND;VALUE=DATE:20230619
DTSTAMP:20260421T190236
CREATED:20220722T045246Z
LAST-MODIFIED:20230523T043800Z
UID:2504-1687046400-1687132799@misaki-sk.okinawa
SUMMARY:グラウンドゴルフ
DESCRIPTION:グラウンド・ゴルフを学校がっこうの運動場うんどうじょうにて行おこないます。
URL:https://misaki-sk.okinawa/event/2022-ground-golf/
LOCATION:沖縄県立美咲特別支援学校\, 美里４丁目１８−１\, 沖縄市\, 沖縄県\, 904-2153\, 日本
ATTACH;FMTTYPE=image/jpeg:https://misaki-sk.okinawa/cms/wp-content/uploads/2022/07/0-グランドゴルフ2.jpg
END:VEVENT
BEGIN:VEVENT
DTSTART;VALUE=DATE:20230523
DTEND;VALUE=DATE:20230524
DTSTAMP:20260421T190236
CREATED:20230523T045927Z
LAST-MODIFIED:20230523T051850Z
UID:3196-1684800000-1684886399@misaki-sk.okinawa
SUMMARY:開級式、新会員送迎スポーツ大会、及び育成会総会
DESCRIPTION:2023年度開級式、新会員スポーツ大会、及び育成会総会を美咲特別支援学校の体育館で行います。\nみなさんもぜひご参加ください。
URL:https://misaki-sk.okinawa/event/%e9%96%8b%e7%b4%9a%e5%bc%8f%e3%80%81%e6%96%b0%e4%bc%9a%e5%93%a1%e9%80%81%e8%bf%8e%e3%82%b9%e3%83%9d%e3%83%bc%e3%83%84%e5%a4%a7%e4%bc%9a%e3%80%81%e5%8f%8a%e3%81%b3%e8%82%b2%e6%88%90%e4%bc%9a%e7%b7%8f/
LOCATION:沖縄県立美咲特別支援学校\, 美里４丁目１８−１\, 沖縄市\, 沖縄県\, 904-2153\, 日本
ATTACH;FMTTYPE=image/jpeg:https://misaki-sk.okinawa/cms/wp-content/uploads/2023/05/0315-04-01.jpg
END:VEVENT
BEGIN:VEVENT
DTSTART;VALUE=DATE:20230422
DTEND;VALUE=DATE:20230423
DTSTAMP:20260421T190236
CREATED:20230526T023647Z
LAST-MODIFIED:20230526T023647Z
UID:3193-1682121600-1682207999@misaki-sk.okinawa
SUMMARY:開級式に向けての諸準備
DESCRIPTION:2023年の開級式へ向けての諸準備を 塩屋そろばん にて予定しています。
URL:https://misaki-sk.okinawa/event/%e9%96%8b%e7%b4%9a%e5%bc%8f%e3%81%ab%e5%90%91%e3%81%91%e3%81%a6%e3%81%ae%e8%ab%b8%e6%ba%96%e5%82%99/
LOCATION:塩屋そろばん\, うるま市塩屋３１２\, 沖縄県\, 904-2231\, 日本
ATTACH;FMTTYPE=image/jpeg:https://misaki-sk.okinawa/cms/wp-content/uploads/2023/05/meeting.jpg
END:VEVENT
BEGIN:VEVENT
DTSTART;VALUE=DATE:20221029
DTEND;VALUE=DATE:20221030
DTSTAMP:20260421T190236
CREATED:20220722T052808Z
LAST-MODIFIED:20221019T014202Z
UID:2531-1667001600-1667087999@misaki-sk.okinawa
SUMMARY:美咲特別支援学校創立50周年式典・祝賀イベント
DESCRIPTION:学校がっこうの創立そうりつ50周年しゅうねんを記念きねんして、式典しきてん・祝賀しゅくがイベントを美咲みさき特別とくべつ支援しえん学校がっこうの体育館たいいくかんで行おこないます。\n式典しきてん要覧ようらんはこちらから確認かくにんできます。また、イベントの内容はYoutubeユーチューブで配信はいしんされる予定よていです。 \nまた、こちらのQRコードを読よみ込こむことでも確認かくにんできます。 \n  \n※コロナウイルス感染症かんせんしょう拡大かくだい防止ぼうしのため延期えんきや中止ちゅうしの可能性かのうせいがあります。
URL:https://misaki-sk.okinawa/event/2022-soritsu50/
LOCATION:沖縄県立美咲特別支援学校\, 美里４丁目１８−１\, 沖縄市\, 沖縄県\, 904-2153\, 日本
ATTACH;FMTTYPE=image/jpeg:https://misaki-sk.okinawa/cms/wp-content/uploads/2022/07/syuunen.jpg
END:VEVENT
END:VCALENDAR