BEGIN:VCALENDAR
VERSION:2.0
PRODID:-//美咲青年教室 - ECPv6.10.1.1//NONSGML v1.0//EN
CALSCALE:GREGORIAN
METHOD:PUBLISH
X-WR-CALNAME:美咲青年教室
X-ORIGINAL-URL:https://misaki-sk.okinawa
X-WR-CALDESC:美咲青年教室 のイベント
REFRESH-INTERVAL;VALUE=DURATION:PT1H
X-Robots-Tag:noindex
X-PUBLISHED-TTL:PT1H
BEGIN:VTIMEZONE
TZID:Asia/Tokyo
BEGIN:STANDARD
TZOFFSETFROM:+0900
TZOFFSETTO:+0900
TZNAME:JST
DTSTART:20220101T000000
END:STANDARD
END:VTIMEZONE
BEGIN:VEVENT
DTSTART;VALUE=DATE:20221029
DTEND;VALUE=DATE:20221030
DTSTAMP:20260421T221418
CREATED:20220722T052808Z
LAST-MODIFIED:20221019T014202Z
UID:2531-1667001600-1667087999@misaki-sk.okinawa
SUMMARY:美咲特別支援学校創立50周年式典・祝賀イベント
DESCRIPTION:学校がっこうの創立そうりつ50周年しゅうねんを記念きねんして、式典しきてん・祝賀しゅくがイベントを美咲みさき特別とくべつ支援しえん学校がっこうの体育館たいいくかんで行おこないます。\n式典しきてん要覧ようらんはこちらから確認かくにんできます。また、イベントの内容はYoutubeユーチューブで配信はいしんされる予定よていです。 \nまた、こちらのQRコードを読よみ込こむことでも確認かくにんできます。 \n  \n※コロナウイルス感染症かんせんしょう拡大かくだい防止ぼうしのため延期えんきや中止ちゅうしの可能性かのうせいがあります。
URL:https://misaki-sk.okinawa/event/2022-soritsu50/
LOCATION:沖縄県立美咲特別支援学校\, 美里４丁目１８−１\, 沖縄市\, 沖縄県\, 904-2153\, 日本
ATTACH;FMTTYPE=image/jpeg:https://misaki-sk.okinawa/cms/wp-content/uploads/2022/07/syuunen.jpg
END:VEVENT
END:VCALENDAR